BEGIN:VCALENDAR
VERSION:2.0
PRODID:-//hacksw/handcal//NONSGML v1.0//EN
BEGIN:VEVENT
SUMMARY:Interclubs R1, J6 (a l'exterieur)
UID:1c23de08-1eb9-4ec1-a7e5-df4777a43e44
DTSTART:20260411T220000Z
DTEND:20260412T220000Z
LOCATION:Localisation   Pertuis
CATEGORIES:Sportif
STATUS:
DESCRIPTION:<p>Journee a deux rencontres a Pertuis : </p>
 
 <p>Auriol
 - Toulon BTM</p>
 
 <p>Auriol - Aubagne</p>
 
URL;VALUE=URI:https://www.auroqbad.fr/evenements/2026/04/12/interclubs-r1-j6-a-lexterieur-2250498
END:VEVENT
END:VCALENDAR
