BEGIN:VCALENDAR
VERSION:2.0
PRODID:-//hacksw/handcal//NONSGML v1.0//EN
BEGIN:VEVENT
SUMMARY:Demi-finale Interclub D3
UID:630b87f9-0f70-4600-9987-1a97755f5df3
DTSTART:20260519T180000Z
DTEND:20260519T220000Z
LOCATION:Localisation   
CATEGORIES:Sportif
STATUS:
DESCRIPTION:<p>Demi-finale a domicile ! </p>
 
 <p>ARB - Aix</p>
URL;VALUE=URI:https://www.auroqbad.fr/evenements/2026/05/19/demi-finale-interclub-d3-2443547
END:VEVENT
END:VCALENDAR
